BEGIN:VCALENDAR
VERSION:2.0
METHOD:PUBLISH
BEGIN:VEVENT
DTSTART:20241011T153000Z
LOCATION:Auditorium Jacques-Genest, Institut de recherches cliniques de Montréal (IRCM), 110, avenue des Pins Ouest, Montréal (Québec) H2W 1R7
TRANSP: OPAQUE
SEQUENCE:0
UID:
DTSTAMP:20260422T085543Z
SUMMARY:26e Concours du Support professoral (PSP)
DESCRIPTION:Le concours permettra la subvention d'un total de 5 bourses. Montant : 6000 $/ bourse Date de fin de candidature : 11 octobre 2024 Critères d'éligibilité et types d'appuis potentiels offerts
PRIORITY:1
CLASS:PUBLIC
BEGIN:VALARM
TRIGGER:-PT10080M
ACTION:DISPLAY
DESCRIPTION:Reminder
END:VALARM
END:VEVENT
END:VCALENDAR
